Workbook

Sheet TRANSFERTS
D2: SECTIONS | E2: NOMBRE DE TRANSFERTS
D3: FCE LILLE SAMBRE ESCAUT CHIMIE ENERGIE | E3: 6
D4: S3C | E4: 3
D5: SGEN | E5: 2
D6: SSR TRANSPORTS EQUIPEMENT ML | E6: 3
D7: ULR CFDT ARMENTIERES | E7: 2
D8: ULR CFDT LILLE | E8: 16
D9: ULR CFDT ROUBAIX | E9: 7
D10: ULR CFDT TOURCOING | E10: 4
D11: TOTAL | E11: =SUM(E3:E10) -> 43

Sheet DEPARTS PAR SECTION
I5: FCE LILLE SAMBRE ESCAUT CHIMIE ENERGIE | J5: 4
I6: METAUX LILLE 5906 | J6: 8
I7: S3C | J7: 2
I8: SGEN | J8: 5
I9: SSR TRANSPORTS EQUIPEMENT ML | J9: 3
I10: ULR CFDT ARMENTIERES | J10: 3
I11: ULR CFDT LILLE | J11: 15
I12: ULR CFDT ROUBAIX | J12: 3
I13: ULR CFDT TOURCOING | J13: 4
I14: TOTAL | J14: =SUM(J5:J13) -> 47

Sheet MOTIFS DE DEPARTS
C30: Décès | D30: 20
C31: Ne paie pas ses cotisations | D31: 13
C32: Difficultés financières | D32: 4
C33: Motif non communiqué | D33: 6
C34: Changement de secteur géographique | D34: 1
C35: Désaccord les positions locales | D35: 1
C36: Désaccord les positions nationales | D36: 2
C37: TOTAL | D37: =SUM(D30:D36) -> 47

Sheet ADHESIONS
C4: S3C | D4: 1
C5: ULR CFDT ARMENTIERES | D5: 3
C6: ULR CFDT LILLE | D6: 2
C7: ULR CFDT ROUBAIX | D7: 3
C8: TOTAL | D8: =SUM(D4:D7) -> 9

Sheet RECAP
A1: SECTIONS | B1: AU 01/01/2025 | C1: ADHESIONS | D1: TRANSFERTS ENTRANTS | E1: ENTREES | F1: DEPARTS | G1: TRANSFERTS SORTANTS | H1: SOLDE | I1: AU 01/01/2026
A2: FCE LILLE SAMBRE ESCAUT CHIMIE ENERGIE | B2: 64 | C2: 0 | D2: =+TRANSFERTS!E3 -> 6 | E2: =+C2+D2 -> 6 | F2: 4 | H2: =+E2-F2 -> 2 | I2: =+B2+H2 -> 66
A3: METAUX LILLE 5906 | B3: 65 | C3: 0 | D3: 0 | E3: =+C3+D3 -> 0 | F3: 8 | H3: =+E3-F3 -> -8 | I3: =+B3+H3 -> 57
A4: S3C | B4: 69 | C4: =+ADHESIONS!D4 -> 1 | D4: =+TRANSFERTS!E4 -> 3 | E4: =+C4+D4 -> 4 | F4: 2 | H4: =+E4-F4 -> 2 | I4: =+B4+H4 -> 71
A5: SGEN | B5: 129 | C5: 0 | D5: =+TRANSFERTS!E5 -> 2 | E5: =+C5+D5 -> 2 | F5: 5 | H5: =+E5-F5 -> -3 | I5: =+B5+H5 -> 126
A6: SSR TRANSPORTS EQUIPEMENT ML | B6: 27 | C6: 0 | D6: =+TRANSFERTS!E6 -> 3 | E6: =+C6+D6 -> 3 | F6: 3 | H6: =+E6-F6 -> 0 | I6: =+B6+H6 -> 27
A7: ULR CFDT ARMENTIERES | B7: 61 | C7: =+ADHESIONS!D5 -> 3 | D7: =+TRANSFERTS!E7 -> 2 | E7: =+C7+D7 -> 5 | F7: 3 | H7: =+E7-F7 -> 2 | I7: =+B7+H7 -> 63
A8: ULR VAL DE LYS | B8: 35 | I8: =+B8+H8 -> 35
A9: ULR CFDT LILLE | B9: 255 | C9: =+ADHESIONS!D6 -> 2 | D9: =+TRANSFERTS!E8 -> 16 | E9: =+C9+D9 -> 18 | F9: 15 | H9: =+E9-F9 -> 3 | I9: =+B9+H9 -> 258
A10: ULR CFDT ROUBAIX | B10: 81 | C10: =+ADHESIONS!D7 -> 3 | D10: =+TRANSFERTS!E9 -> 7 | E10: =+C10+D10 -> 10 | F10: 3 | H10: =+E10-F10 -> 7 | I10: =+B10+H10 -> 88
A11: ULR CFDT TOURCOING | B11: 69 | C11: 0 | D11: =+TRANSFERTS!E10 -> 4 | E11: =+C11+D11 -> 4 | F11: 4 | H11: =+E11-F11 -> 0 | I11: =+B11+H11 -> 69
A12: TOTAL SYNDICAT | B12: =SUM(B2:B11) -> 855 | C12: =SUM(C2:C11) -> 9 | D12: =SUM(D2:D11) -> 43 | E12: =+C12+D12 -> 52 | F12: =SUM(F2:F11) -> 47 | G12: 3 | H12: =+E12-F12-G12 -> 2 | I12: 857 | J12: =SUM(I2:I11) -> 860
